BEGIN:VCALENDAR
VERSION:2.0
PRODID:-//ChamberMaster//Event Calendar 2.0//EN
METHOD:PUBLISH
X-PUBLISHED-TTL:P3D
REFRESH-INTERVAL:P3D
CALSCALE:GREGORIAN
BEGIN:VEVENT
DTSTART:20211016T170000Z
DTEND:20211016T190000Z
X-MICROSOFT-CDO-ALLDAYEVENT:FALSE
SUMMARY:Whittier State of Homelessness 2021
DESCRIPTION:The Whittier Consortium on Homelessness is hosting their annual Whittier State of Homelessness (SOH) and we are extending an invitation to you. The event will take place on Saturday\, October 16\, 2021 at 10:00am via zoom and is open to all in the community. Join us for a discussion on the current state of homelessness in Whittier\, hear from our local service providing agencies and learn about the work that is being done in the fight to end homelessness. Use the link or QR code in the flyer above to reserve your virtual seat for the event. To learn more about the Whittier Consortium on Homelessness visit whittierhomeless.org\n\n\n\nREGISTER HERE
X-ALT-DESC;FMTTYPE=text/html:<span style="color:#172B4D\;"><span style="font-family:arial\,sans-serif\;"><span style="font-size:12.0pt\;">The Whittier Consortium on Homelessness is hosting their annual Whittier State of Homelessness (SOH) and we are extending an invitation to you. The event will take place on <u>Saturday\, October 16\, 2021 at 10:00am via zoom</u> and is open to all in the community. Join us for a discussion on the current state of homelessness in Whittier\, hear from our local service providing agencies and learn about the work that is being done in the fight to end homelessness. Use the link or QR code in the flyer above to reserve your virtual seat for the event. To learn more about the Whittier Consortium on Homelessness visit </span></span></span><strong><span style="color:#172B4D\;"><span style="font-family:arial\,sans-serif\;"><span style="font-size:15.0pt\;"><a href="https://r20.rs6.net/tn.jsp?f=001mTDaiW9Ei3KmcnOsBIK2l8And_tovmdoJQvhYJ5JHoj2XINu6uUtq7URAjLiELxDpI4elzcMlif8wl_chaMzSPil3zSM64QiB7VY7JGdZ88knAhspHXF52_yNgFByePM1wpkaLKl0zAqApSZUPmnjtaM5gk59C2Y&amp\;c=dvoRnKNGHhUHuqWPVQrPvoJZ2feE3NwSzozjT-QxuIW-2fma_TCtMw==&amp\;ch=0OWpb5-HjHV8PP0e2vQEsOKodpKco6c3E-edkO5Ue83ORhWsElECUw==" target="_blank"><span style="font-weight:normal\;"><span style="color:#5E81CA\;"><span style="font-size:12.0pt\;">whittierhomeless.org</span></span></span></a><br />\n<br />\n<span style="font-size:36px\;"><a href="https://docs.google.com/forms/d/e/1FAIpQLSepHavOFlfN9Mv1KbW6BKHwgUoWtodB9JRf9fC0Ro6_xB41mw/viewform">REGISTER HERE</a></span></span></span></span></strong>
LOCATION:RSVP using Google Form ZOOM link distributed upon RSVP
UID:e.1283.23714
SEQUENCE:3
DTSTAMP:20260420T224026Z
URL:https://business.whittierchamber.com/events/details/whittier-state-of-homelessness-2021-23714
END:VEVENT

END:VCALENDAR
