BEGIN:VCALENDAR
VERSION:2.0
PRODID:-//ChamberMaster//Event Calendar 2.0//EN
METHOD:PUBLISH
X-PUBLISHED-TTL:P3D
REFRESH-INTERVAL:P3D
CALSCALE:GREGORIAN
BEGIN:VEVENT
DTSTART:20261031T133000Z
DTEND:20261031T190000Z
X-MICROSOFT-CDO-ALLDAYEVENT:FALSE
SUMMARY:Whittier Spooktacular 5K Run/Walk
DESCRIPTION:Whittier Spooktacular Annual 5K Run/Walk\n\n\n\nCash Prize Awards\n\nTop Male & Female 5K Finisher\n\nCostume Contest
X-ALT-DESC;FMTTYPE=text/html:<strong><span style="color:#8B4513\;"><span style="font-family:verdana\;"><span style="font-size:18px\;">Whittier Spooktacular Annual 5K Run/Walk<br />\n<br />\nCash Prize Awards<br />\nTop Male &amp\; Female 5K Finisher<br />\nCostume Contest</span></span></span></strong>
LOCATION:7630 Washington Ave. Whittier\, CA 90602
UID:e.1283.27220
SEQUENCE:3
DTSTAMP:20260421T184337Z
URL:https://business.whittierchamber.com/events/details/whittier-spooktacular-5k-run-walk-27220
END:VEVENT

END:VCALENDAR
