BEGIN:VCALENDAR
VERSION:2.0
PRODID:-//ChamberMaster//Event Calendar 2.0//EN
METHOD:PUBLISH
X-PUBLISHED-TTL:P3D
REFRESH-INTERVAL:P3D
CALSCALE:GREGORIAN
BEGIN:VEVENT
DTSTART:20261011T000000Z
DTEND:20261011T050000Z
X-MICROSOFT-CDO-ALLDAYEVENT:FALSE
SUMMARY:Whittier Host Lions Club: Sight For Kids 2026
DESCRIPTION:Sight For Kids is the Club's biggest annual fundraiser with no Club overhead costs and 100% of net proceeds going back into our local Whittier Community. Located in the Whittier Community Center this annual wine and food tasting event features an outstanding sampling of food donated by local restaurants and wine donated from the best California wineries. The event also features an energetic live auction of some wonderful travel packages and over 100 silent auction items.
X-ALT-DESC;FMTTYPE=text/html:<span style="box-sizing: border-box\; font-weight: bolder\; outline: 0px\; color: rgb(0\, 0\, 128)\; font-family: Arial\, Helvetica\, sans-serif\; font-size: 18px\; background-color: rgb(255\, 255\, 255)\;"><span style="box-sizing: border-box\; outline: 0px\;">Sight For Kids is the Club&rsquo\;s biggest annual fundraiser with no Club overhead costs and 100% of net proceeds going back into our local Whittier Community. Located in the Whittier Community Center this annual wine and food tasting event features an outstanding sampling of food donated by local restaurants and wine donated from the best California wineries. The event also features an energetic live auction of some wonderful travel packages and over 100 silent auction items.</span></span>
LOCATION:Whittier Community Center 7630 Washington Ave. Whittier\, CA 90602
UID:e.1283.27219
SEQUENCE:3
DTSTAMP:20260421T185341Z
URL:https://business.whittierchamber.com/events/details/whittier-host-lions-club-sight-for-kids-2026-27219
END:VEVENT

END:VCALENDAR
