BEGIN:VCALENDAR
VERSION:2.0
PRODID:-//ChamberMaster//Event Calendar 2.0//EN
METHOD:PUBLISH
X-PUBLISHED-TTL:P3D
REFRESH-INTERVAL:P3D
CALSCALE:GREGORIAN
BEGIN:VEVENT
DTSTART:20260620T150000Z
DTEND:20260620T210000Z
X-MICROSOFT-CDO-ALLDAYEVENT:FALSE
SUMMARY:Whittier Host Lions Club: Free Vision Screening & Free Eyeglasses
DESCRIPTION:Whittier Host Lions Club: Free Vision Screening & Free Eyeglasses\n\n\n\nWe cannot guarantee that patients in line will be seen. Screening may close early subject to attendance.
X-ALT-DESC;FMTTYPE=text/html:<strong><span style="color:#0000CD\;"><span style="font-family:verdana\;"><span style="font-size:18px\;">Whittier Host Lions Club: Free Vision Screening &amp\; Free Eyeglasses<br />\n<br />\nWe cannot guarantee that patients in line will be seen. Screening may close early subject to attendance.</span></span></span></strong>
LOCATION:Uptown Whittier YMCA - Gym 12510 Hadley St. Whittier\, CA 90601
UID:e.1283.27222
SEQUENCE:3
DTSTAMP:20260421T103751Z
URL:https://business.whittierchamber.com/events/details/whittier-host-lions-club-free-vision-screening-free-eyeglasses-27222
END:VEVENT

END:VCALENDAR
