BEGIN:VCALENDAR
VERSION:2.0
PRODID:-//ChamberMaster//Event Calendar 2.0//EN
METHOD:PUBLISH
X-PUBLISHED-TTL:P3D
REFRESH-INTERVAL:P3D
CALSCALE:GREGORIAN
BEGIN:VEVENT
DTSTART:20220817T143000Z
DTEND:20220817T163000Z
X-MICROSOFT-CDO-ALLDAYEVENT:FALSE
SUMMARY:Wake Up Whittier @ Azar Event Center
DESCRIPTION:Join the Whittier Chamber of Commerce early in the morning to connect with your fellow chamber members and hear important city updates.\n\n\n\nNetwork with Local Professionals\n\nHear City & Chamber Updates\n\nEnter a Raffle for a Chance to Win a Prize\n\nGet a Chance to Give a 30-Second Plug Pass
X-ALT-DESC;FMTTYPE=text/html:<span style="box-sizing: border-box\; outline: 0px\; color: rgb(128\, 0\, 128)\; font-family: verdana\; font-size: 18px\; font-weight: 700\; background-color: rgb(255\, 255\, 255)\;">Join the Whittier Chamber of Commerce early in the morning to connect with your fellow chamber members and hear important city updates.</span><br data-uw-styling-context="true" style="box-sizing: border-box\; color: rgb(128\, 0\, 128)\; font-family: verdana\; font-size: 18px\; font-weight: 700\; background-color: rgb(255\, 255\, 255)\;" />\n<br data-uw-styling-context="true" style="box-sizing: border-box\; color: rgb(128\, 0\, 128)\; font-family: verdana\; font-size: 18px\; font-weight: 700\; background-color: rgb(255\, 255\, 255)\;" />\n<span style="box-sizing: border-box\; color: rgb(128\, 0\, 128)\; font-family: verdana\; font-size: 18px\; font-weight: 700\; background-color: rgb(255\, 255\, 255)\;">Network with Local Professionals</span><br data-uw-styling-context="true" style="box-sizing: border-box\; color: rgb(128\, 0\, 128)\; font-family: verdana\; font-size: 18px\; font-weight: 700\; background-color: rgb(255\, 255\, 255)\;" />\n<span style="box-sizing: border-box\; color: rgb(128\, 0\, 128)\; font-family: verdana\; font-size: 18px\; font-weight: 700\; background-color: rgb(255\, 255\, 255)\;">Hear City &amp\; Chamber Updates</span><br data-uw-styling-context="true" style="box-sizing: border-box\; color: rgb(128\, 0\, 128)\; font-family: verdana\; font-size: 18px\; font-weight: 700\; background-color: rgb(255\, 255\, 255)\;" />\n<span style="box-sizing: border-box\; color: rgb(128\, 0\, 128)\; font-family: verdana\; font-size: 18px\; font-weight: 700\; background-color: rgb(255\, 255\, 255)\;">Enter a Raffle for a Chance to Win a Prize</span><br data-uw-styling-context="true" style="box-sizing: border-box\; color: rgb(128\, 0\, 128)\; font-family: verdana\; font-size: 18px\; font-weight: 700\; background-color: rgb(255\, 255\, 255)\;" />\n<span style="box-sizing: border-box\; color: rgb(128\, 0\, 128)\; font-family: verdana\; font-size: 18px\; font-weight: 700\; background-color: rgb(255\, 255\, 255)\;">Get a Chance to Give a 30-Second Plug Pass</span>
LOCATION:Azar Event Center 12215 Slauson Ave. Santa Fe Springs\, CA 90670
UID:e.1283.23873
SEQUENCE:3
DTSTAMP:20260423T112233Z
URL:https://business.whittierchamber.com/events/details/wake-up-whittier-azar-event-center-23873
END:VEVENT

END:VCALENDAR
