BEGIN:VCALENDAR
VERSION:2.0
PRODID:-//ChamberMaster//Event Calendar 2.0//EN
METHOD:PUBLISH
X-PUBLISHED-TTL:P3D
REFRESH-INTERVAL:P3D
CALSCALE:GREGORIAN
BEGIN:VEVENT
DTSTART:20181020T180000Z
DTEND:20181020T213000Z
X-MICROSOFT-CDO-ALLDAYEVENT:FALSE
SUMMARY:WAGS Meeting
DESCRIPTION:Listen to Bill Cole in the morning session teach family history in the form of a story\, then enjoy lunch from 12 - 1 p.m. (with a $5 reservation)\, followed by the afternoon session where Diane Henriks will discuss Publishing Your Family History.
X-ALT-DESC;FMTTYPE=text/html:Listen to Bill Cole in the morning session teach family history in the form of a story\, then enjoy lunch from 12 - 1 p.m. (with a $5 reservation)\, followed by the afternoon session where Diane Henriks will discuss Publishing Your Family History.&nbsp\;
LOCATION:Whittier Area Genealogical Society (WAGS) Masonic Lodge 7604 S. Greenleaf Ave. (on the corner of Greenleaf & Mar Vista) Whittier\, CA
UID:e.1283.16545
SEQUENCE:3
DTSTAMP:20260423T163208Z
URL:https://business.whittierchamber.com/events/details/wags-meeting-10-20-2018-16545
END:VEVENT

END:VCALENDAR
