BEGIN:VCALENDAR
VERSION:2.0
PRODID:-//ChamberMaster//Event Calendar 2.0//EN
METHOD:PUBLISH
X-PUBLISHED-TTL:P3D
REFRESH-INTERVAL:P3D
CALSCALE:GREGORIAN
BEGIN:VEVENT
DTSTART:20250410T190000Z
DTEND:20250410T210000Z
X-MICROSOFT-CDO-ALLDAYEVENT:FALSE
SUMMARY:Solace Treatment Center: Community Egg Drive
DESCRIPTION:Solace Treatment Center: Community Egg Drive\n\n\n\nSolace will be collecting plastic eggs and candy bags for the children in the community.\n\n \n\n	Tacos\n	Networking\n	Gifts\n	Raffles\n	Tours
X-ALT-DESC;FMTTYPE=text/html:<strong><span style="color:#0000CD\;"><span style="font-family:verdana\;"><span style="font-size:18px\;">Solace Treatment Center: Community Egg Drive<br />\n<br />\nSolace will be collecting plastic eggs and candy bags for the children in the community.</span></span></span></strong><br />\n&nbsp\;\n<ul>\n	<li><strong><span style="color:#0000CD\;"><span style="font-family:verdana\;"><span style="font-size:18px\;">Tacos</span></span></span></strong></li>\n	<li><strong><span style="color:#0000CD\;"><span style="font-family:verdana\;"><span style="font-size:18px\;">Networking</span></span></span></strong></li>\n	<li><strong><span style="color:#0000CD\;"><span style="font-family:verdana\;"><span style="font-size:18px\;">Gifts</span></span></span></strong></li>\n	<li><strong><span style="color:#0000CD\;"><span style="font-family:verdana\;"><span style="font-size:18px\;">Raffles</span></span></span></strong></li>\n	<li><strong><span style="color:#0000CD\;"><span style="font-family:verdana\;"><span style="font-size:18px\;">Tours</span></span></span></strong></li>\n</ul>\n
LOCATION:Solace Treatment Center 13027 Hadley St. Whittier\, CA 90601
UID:e.1283.26959
SEQUENCE:3
DTSTAMP:20260422T233157Z
URL:https://business.whittierchamber.com/events/details/solace-treatment-center-community-egg-drive-26959
END:VEVENT

END:VCALENDAR
