BEGIN:VCALENDAR
VERSION:2.0
PRODID:-//ChamberMaster//Event Calendar 2.0//EN
METHOD:PUBLISH
X-PUBLISHED-TTL:P3D
REFRESH-INTERVAL:P3D
CALSCALE:GREGORIAN
BEGIN:VEVENT
DTSTART:20240420T133000Z
DTEND:20240420T210000Z
X-MICROSOFT-CDO-ALLDAYEVENT:FALSE
SUMMARY:Shelter's Right Hand 28th Annual "Stepping Out Against Domestic Violence" 5K Walk
DESCRIPTION:Join us for our 28th Annual 5K Walk on Saturday\, April 20\, 2024. The event will start at Central Park on Friends in Uptown Whittier at 8:00am with packet pick up and same day registration starting at 6:30am. Registered walkers will receive a commemorative T-Shirt\, medals for the first 500 walkers\, refreshments\, entertainment\, and tickets to win prizes. The energetic 5K Walk route is through historical Uptown Whittier. Don't wait\, register today!
X-ALT-DESC;FMTTYPE=text/html:<span style="color:#0000FF\;"><span style="font-family:verdana\;"><span class="wixui-rich-text__text" style="background-image: initial\; background-position: initial\; background-size: initial\; background-repeat: initial\; background-attachment: initial\; background-origin: initial\; background-clip: initial\; border: 0px\; margin: 0px\; outline: 0px\; padding: 0px\; vertical-align: baseline\; font-size: 18px\; font-weight: bold\;">Join us for our 28th Annual 5K Walk on Saturday\, April 20\, 2024.</span><span style="font-size: 18px\;">&nbsp\;The event will start at Central Park on Friends in Uptown Whittier at 8:00am with packet pick up and same day registration starting at 6:30am. Registered walkers will receive a commemorative T-Shirt\, medals for the first 500 walkers\, refreshments\, entertainment\, and tickets to win prizes. The energetic 5K Walk route is through historical Uptown Whittier. Don&#39\;t wait\, register today!</span></span></span>
LOCATION:Central Park Whittier 6532 Friends Ave.\, Whittier\, CA 90601
UID:e.1283.26052
SEQUENCE:3
DTSTAMP:20260423T140352Z
URL:https://business.whittierchamber.com/events/details/shelter-s-right-hand-28th-annual-stepping-out-against-domestic-violence-5k-walk-26052
END:VEVENT

END:VCALENDAR
