BEGIN:VCALENDAR
VERSION:2.0
PRODID:-//ChamberMaster//Event Calendar 2.0//EN
METHOD:PUBLISH
X-PUBLISHED-TTL:P3D
REFRESH-INTERVAL:P3D
CALSCALE:GREGORIAN
BEGIN:VEVENT
DTSTART:20240601T140000Z
DTEND:20240601T220000Z
X-MICROSOFT-CDO-ALLDAYEVENT:FALSE
SUMMARY:Senator Bob Archuleta: 2nd Annual Cars for Troops
DESCRIPTION:Senator Bob Archuleta: 2nd Annual Cars for Troops\n\n\n\nVA\, CalVets\, and other Veteran Services on site.\n\n\n\nLive Performers and other Veteran Services on site.\n\n\n\nVendors\, Variety Cars\, & Bikes
X-ALT-DESC;FMTTYPE=text/html:<strong><span style="color:#0000CD\;"><span style="font-family:verdana\;"><span style="font-size:18px\;">Senator Bob Archuleta: 2nd Annual Cars for Troops<br />\n<br />\nVA\, CalVets\, and other Veteran Services on site.<br />\n<br />\nLive Performers and other Veteran Services on site.<br />\n<br />\nVendors\, Variety Cars\, &amp\; Bikes</span></span></span></strong>
LOCATION:Pico Rivera Sports Arena 11003 Rooks Rd. Pico Rivera\, CA 90601
UID:e.1283.26393
SEQUENCE:3
DTSTAMP:20260422T043039Z
URL:https://business.whittierchamber.com/events/details/senator-bob-archuleta-2nd-annual-cars-for-troops-26393
END:VEVENT

END:VCALENDAR
