BEGIN:VCALENDAR
VERSION:2.0
PRODID:-//ChamberMaster//Event Calendar 2.0//EN
METHOD:PUBLISH
X-PUBLISHED-TTL:P3D
REFRESH-INTERVAL:P3D
CALSCALE:GREGORIAN
BEGIN:VEVENT
DTSTART:20201119T170000Z
DTEND:20201119T190000Z
X-MICROSOFT-CDO-ALLDAYEVENT:FALSE
SUMMARY:Seminar: Providing Effective and Meaningful Supervision
DESCRIPTION:This workshop will discuss and review the nature and function of supervision. Whether you are pursuing your BCBA\, BCaBA or RBT\, the type of supervision (training and feedback) that is passed on from clinician to clinician is critical to our field and the individuals we serve. Whether you are a supervisee or supervisor\, quality\, competency and ethics is the cornerstone of what makes supervision effective and meaningful. This workshop is the registration to take this training IN PERSON in our Whittier\, CA office.
X-ALT-DESC;FMTTYPE=text/html:This workshop will discuss and review the nature and function of supervision. Whether you are pursuing your BCBA\, BCaBA or RBT\, the type of supervision (training and feedback) that is passed on from clinician to clinician is critical to our field and the individuals we serve. Whether you are a supervisee or supervisor\, quality\, competency and ethics is the cornerstone of what makes supervision effective and meaningful. This workshop is the registration to take this training IN PERSON in our Whittier\, CA office.
LOCATION:Achieve Beyond 8135 Painter Ave\, Suite 201 Whittier\, CA 90602
UID:e.1283.21052
SEQUENCE:3
DTSTAMP:20260419T192949Z
URL:https://business.whittierchamber.com/events/details/seminar-providing-effective-and-meaningful-supervision-21052
END:VEVENT

END:VCALENDAR
