BEGIN:VCALENDAR
VERSION:2.0
PRODID:-//ChamberMaster//Event Calendar 2.0//EN
METHOD:PUBLISH
X-PUBLISHED-TTL:P3D
REFRESH-INTERVAL:P3D
CALSCALE:GREGORIAN
BEGIN:VEVENT
DTSTART:20260525T173000Z
DTEND:20260525T200000Z
X-MICROSOFT-CDO-ALLDAYEVENT:FALSE
SUMMARY:Rose Hills 104th Annual: Memorial Day Observance
DESCRIPTION:Rose Hills Memorial Park & Mortuary:\n\n104th Annual Memorial Day Observance\n\n\n\n10:30 A.M.\n\nFamily activities\, military display and vehicle exhibit\, photo opportunities and keepsakes'\n\n\n\n11 A.M.\n\nProgram\, musical performances\, vintage aircraft flyover and keynote address by Col. Lisa Costanza\, U.S. Army (Ret.)\, CA Army National Guard.
X-ALT-DESC;FMTTYPE=text/html:<strong><span style="color:#FF0000\;"><span style="font-family:verdana\;"><span style="font-size:18px\;">Rose Hills Memorial Park &amp\; Mortuary:<br />\n104th Annual Memorial Day Observance<br />\n<br />\n10:30 A.M.<br />\nFamily activities\, military display and vehicle exhibit\, photo opportunities and keepsakes&#39\;<br />\n<br />\n11 A.M.<br />\nProgram\, musical performances\, vintage aircraft flyover and keynote address by Col. Lisa Costanza\, U.S. Army (Ret.)\, CA Army National Guard.</span></span></span></strong>
LOCATION:Rose Hills Memorial Park & Mortuary (Skyrose Chapel) 3888 Workman Mill Rd. Whittier\, CA 90601
UID:e.1283.27261
SEQUENCE:3
DTSTAMP:20260423T182033Z
URL:https://business.whittierchamber.com/events/details/rose-hills-104th-annual-memorial-day-observance-27261
END:VEVENT

END:VCALENDAR
