BEGIN:VCALENDAR
VERSION:2.0
PRODID:-//ChamberMaster//Event Calendar 2.0//EN
METHOD:PUBLISH
X-PUBLISHED-TTL:P3D
REFRESH-INTERVAL:P3D
CALSCALE:GREGORIAN
BEGIN:VEVENT
DTSTART:20260506T180000Z
DTEND:20260506T210000Z
X-MICROSOFT-CDO-ALLDAYEVENT:FALSE
SUMMARY:Rio Hondo College CWE Job Fair
DESCRIPTION:Join us at the Career and Workforce Education (CWE) Spring 2026 Job Fair for exciting career opportunities and networking in the following CWE programs:\n\nAutomotive Technology\n\nElectrician\n\nHeavy Equipment Technology\n\nEducation\n\nWelding\n\nArchitecture/Engineering\n\nGIS\n\nAlternative Energy
X-ALT-DESC;FMTTYPE=text/html:<p>Join us at the Career and Workforce Education (CWE) Spring 2026 Job Fair for exciting career opportunities and networking in the following CWE programs:</p>\n\n<p>Automotive Technology<br />\nElectrician<br />\nHeavy Equipment Technology<br />\nEducation<br />\nWelding<br />\nArchitecture/Engineering<br />\nGIS<br />\nAlternative Energy</p>\n
LOCATION:Rio Hondo College 3600 Workman Mill Road Whittier\, CA 90601 Grace Napolitano Quad - next to the Applied Technology (AT) building
UID:e.1283.27253
SEQUENCE:3
DTSTAMP:20260421T125729Z
URL:https://business.whittierchamber.com/events/details/rio-hondo-college-cwe-job-fair-27253
END:VEVENT

END:VCALENDAR
