BEGIN:VCALENDAR
VERSION:2.0
PRODID:-//ChamberMaster//Event Calendar 2.0//EN
METHOD:PUBLISH
X-PUBLISHED-TTL:P3D
REFRESH-INTERVAL:P3D
CALSCALE:GREGORIAN
BEGIN:VEVENT
DTSTART:20260602T230000Z
DTEND:20260603T000000Z
X-MICROSOFT-CDO-ALLDAYEVENT:FALSE
SUMMARY:Ribbon Cutting Ceremony @ Quick Quack Car Wash @ 4 P.M.
DESCRIPTION:Please join the Whittier Area Chamber of Commerce for a ribbon cutting ceremony for Quick Quack Car Wash.
X-ALT-DESC;FMTTYPE=text/html:<strong><span style="color:#008000\;"><span style="font-family:verdana\;"><span style="font-size:18px\;">Please join the Whittier Area Chamber of Commerce for a ribbon cutting ceremony for Quick Quack Car Wash.</span></span></span></strong>
LOCATION:Quick Quack Car Wash 14300 Whittier Blvd. Whittier\, CA 90605
UID:e.1283.27262
SEQUENCE:3
DTSTAMP:20260424T204907Z
URL:https://business.whittierchamber.com/events/details/ribbon-cutting-ceremony-quick-quack-car-wash-4-p-m-27262
END:VEVENT

END:VCALENDAR
