BEGIN:VCALENDAR
VERSION:2.0
PRODID:-//ChamberMaster//Event Calendar 2.0//EN
METHOD:PUBLISH
X-PUBLISHED-TTL:P3D
REFRESH-INTERVAL:P3D
CALSCALE:GREGORIAN
BEGIN:VEVENT
DTSTART:20210612T160000Z
DTEND:20210612T190000Z
X-MICROSOFT-CDO-ALLDAYEVENT:FALSE
SUMMARY:Pick-It-Up Whittier
DESCRIPTION:Pick-It-Up Whittier\n\nA #KeepWhittierPrettier Event\n\n\n\nYour invited to join the City of Whittier Police Department and Friends for a Greenway Trail community clean-up project. Volunteers will begin clean-up at either end of the trail\, meeting in the middle for a police vehicle expo\, snacks & fun!
X-ALT-DESC;FMTTYPE=text/html:<strong><span style="color:#008000\;"><span style="font-family:verdana\;"><span style="font-size:16px\;">Pick-It-Up Whittier<br />\nA #KeepWhittierPrettier Event<br />\n<br />\nYour invited to join the City of Whittier Police Department and Friends for a Greenway Trail community clean-up project. Volunteers will begin clean-up at either end of the trail\, meeting in the middle for a police vehicle expo\, snacks &amp\; fun!</span></span></span></strong>
LOCATION:East Location: Meet at the Northeast corner of Mills Ave. & Lambert Rd.\, Greenway Trail Oak Station Parking Lot West Location: Meet at Guiardo Park\, 5760 Pioneer Blvd.\, Whittier 90606
UID:e.1283.23620
SEQUENCE:3
DTSTAMP:20260426T044029Z
URL:https://business.whittierchamber.com/events/details/pick-it-up-whittier-23620
END:VEVENT

END:VCALENDAR
