BEGIN:VCALENDAR
VERSION:2.0
PRODID:-//ChamberMaster//Event Calendar 2.0//EN
METHOD:PUBLISH
X-PUBLISHED-TTL:P3D
REFRESH-INTERVAL:P3D
CALSCALE:GREGORIAN
BEGIN:VEVENT
DTSTART:20240726T153000Z
DTEND:20240726T170000Z
X-MICROSOFT-CDO-ALLDAYEVENT:FALSE
SUMMARY:Nonprofit Network: Fundraising
DESCRIPTION:Nonprofit organizations are challenged every day to keep the cause alive\, to nurture the relationships that engage people\, secure funding\, and deliver crucial services to those who need them.\n\n\n\nThe Whittier Chamber of Commerce presents an opportunity for nonprofit managers to mastermind solutions\, with other successful nonprofit leaders around the most pressing issues that threaten the survival of nonprofits.\n \n\nThe purpose of The Nonprofit Network is to bring together all nonprofits and service clubs in the Whittier area to offer a platform for coordinating and sharing ideas. The Nonprofit Network will serve as a resource for our Chamber\, the community and local organizations.
X-ALT-DESC;FMTTYPE=text/html:<span style="font-size:18px\;"><span style="font-family:verdana\;"><span style="color:#008000\;"><strong>Nonprofit organizations are challenged every day to keep the cause alive\, to nurture the relationships that engage people\, secure funding\, and deliver crucial services to those who need them.<br />\n<br />\nThe Whittier Chamber of Commerce presents an opportunity for nonprofit managers to mastermind solutions\, with other successful nonprofit leaders around the most pressing issues that threaten the survival of nonprofits.</strong></span></span></span>\n<div style="color: rgb(0\, 0\, 0)\; font-family: Arial\, Verdana\, Helvetica\, sans-serif\; font-size: 14px\; white-space: pre-wrap\;">&nbsp\;</div>\n\n<div style="color: rgb(51\, 51\, 51)\; font-family: sans-serif\, Arial\, Verdana\, &quot\;Trebuchet MS&quot\;\; font-size: 13px\;"><span style="font-size:18px\;"><span style="font-family:verdana\;"><span style="color:#008000\;"><strong><em>The purpose of The Nonprofit Network is to bring&nbsp\;together all nonprofits and service clubs in the Whittier area to offer a platform for coordinating and sharing ideas. The Nonprofit Network will serve as a&nbsp\;resource for our Chamber\, the community and local&nbsp\;organizations.</em></strong></span></span></span></div>\n
LOCATION:Whittier Central Library 7344 Washington Ave. Whittier\, CA 90602
UID:e.1283.26427
SEQUENCE:3
DTSTAMP:20260425T004911Z
URL:https://business.whittierchamber.com/events/details/nonprofit-network-fundraising-26427
END:VEVENT

END:VCALENDAR
