BEGIN:VCALENDAR
VERSION:2.0
PRODID:-//ChamberMaster//Event Calendar 2.0//EN
METHOD:PUBLISH
X-PUBLISHED-TTL:P3D
REFRESH-INTERVAL:P3D
CALSCALE:GREGORIAN
BEGIN:VEVENT
DTSTART:20191208T000000Z
DTEND:20191208T050000Z
X-MICROSOFT-CDO-ALLDAYEVENT:FALSE
SUMMARY:Holiday Sonata
DESCRIPTION:Save the Date - December 7th. More information to follow.
X-ALT-DESC;FMTTYPE=text/html:Save the Date - December 7th. More information to follow.
LOCATION:6717 Bright Ave.Whittier Ca
UID:e.1283.19181
SEQUENCE:3
DTSTAMP:20260420T150824Z
URL:https://business.whittierchamber.com/events/details/holiday-sonata-19181
END:VEVENT

END:VCALENDAR
