BEGIN:VCALENDAR
VERSION:2.0
PRODID:-//ChamberMaster//Event Calendar 2.0//EN
METHOD:PUBLISH
X-PUBLISHED-TTL:P3D
REFRESH-INTERVAL:P3D
CALSCALE:GREGORIAN
BEGIN:VEVENT
DTSTART:20231103T010000Z
DTEND:20231103T040000Z
X-MICROSOFT-CDO-ALLDAYEVENT:FALSE
SUMMARY:Good Scout Award Dinner
DESCRIPTION:We hope that you will join us in the fun of solving the Diamond Heist Mystery at our Good Scout Award Dinner honoring the Whittier Police Department on November 2\, 2023\, 6 PM. All proceeds will go directly to support hundreds of youth   both boys and girls   in our District's Scouting programs who may otherwise not be able to participate. We hope that you will consider sponsoring a table\, buying a tribute program advertisement\, and donating items to our Silent Auction.\n\n\n\nFor tickets\, sponsorships and more information\, please visit: https://greaterlascouting.org/GoodScoutDinner/
X-ALT-DESC;FMTTYPE=text/html:<span style="color: rgb(0\, 0\, 0)\; font-family: Verdana\, Geneva\, sans-serif\, serif\, EmojiFont\; font-size: 13.3333px\;">We hope that you will join us in the fun of solving the Diamond Heist Mystery at our Good Scout Award Dinner honoring the Whittier Police Department on November 2\, 2023\, 6 PM. All proceeds will go directly to support hundreds of youth &ndash\; both boys and girls &ndash\; in our District&rsquo\;s Scouting programs who may otherwise not be able to participate. We hope that you will consider sponsoring a table\, buying a tribute program advertisement\, and donating items to our Silent Auction.<br />\n<br />\nFor tickets\, sponsorships and more information\, please visit:&nbsp\;https://greaterlascouting.org/GoodScoutDinner/</span>
LOCATION:DoubleTree Hotel Whittier
UID:e.1283.24344
SEQUENCE:3
DTSTAMP:20260422T152625Z
URL:https://business.whittierchamber.com/events/details/good-scout-award-dinner-24344
END:VEVENT

END:VCALENDAR
