BEGIN:VCALENDAR
VERSION:2.0
PRODID:-//ChamberMaster//Event Calendar 2.0//EN
METHOD:PUBLISH
X-PUBLISHED-TTL:P3D
REFRESH-INTERVAL:P3D
CALSCALE:GREGORIAN
BEGIN:VEVENT
DTSTART;VALUE=DATE:20200727
DTEND;VALUE=DATE:20200728
TRANSP:TRANSPARENT
X-MICROSOFT-CDO-ALLDAYEVENT:TRUE
SUMMARY:FREE SUCCESS CLUB NOW OPEN
DESCRIPTION:The most successful people in the world all have three things:\n\nCommunity. \n\nConfidence. \n\nCareer Strategy.\n\nWe understand how important it is to seek outside support for your continued personal and professional growth. Let's face it\, it's not as easy as it sounds but building success on your own terms is achievable when you're with the right community who can provide the right tools!\n\nFor the next 5-weeks through community coaching\, live-stream webinars\, resources\, and more\, this free program will provide you with:\n\n\n	Community- We all need accountability and a tribe of people to connect with.  \n	Clarity- One of the top challenges for professionals and leaders is simply gaining clarity on vision and the next steps. \n	Career Strategy- Ideas and knowledge only serve you when a strong strategy is implemented to support your growth and success. \n	Confidence- Your success is determined by your belief in yourself and your abilities. Technique and skills are only at their full potential when they're coupled with a deep inner self-confidence. \n	Courage- The final step of success is taking action even when fear is present. \n\n\nIt doesn't get any better than this! A FREE program that is invaluable with resources\, time\, and money.
X-ALT-DESC;FMTTYPE=text/html:<p style="text-align:justify">The most successful people in the world all have three things:</p>\n\n<p style="text-align:justify"><strong>Community.&nbsp\;</strong></p>\n\n<p style="text-align:justify"><strong>Confidence.&nbsp\;</strong></p>\n\n<p style="text-align:justify"><strong>Career Strategy.</strong></p>\n\n<p style="text-align:justify">We understand how important it is to seek outside support for your continued personal and professional growth. Let&#39\;s face it\, it&#39\;s not as easy as it sounds but building success on your own terms is achievable when you&#39\;re with the right community who can provide the right tools!</p>\n\n<p style="text-align:justify">For the next 5-weeks through community coaching\, live-stream webinars\, resources\, and more\, this free program will provide you with:</p>\n\n<ol style="margin-left:2rem\; margin-right:0px">\n	<li><strong>Community-</strong>&nbsp\;We all need accountability and a tribe of people to connect with. &nbsp\;</li>\n	<li><strong>Clarity-</strong>&nbsp\;One of the top challenges for professionals and leaders is simply gaining clarity on vision and the next steps.&nbsp\;</li>\n	<li><strong>Career Strategy-</strong>&nbsp\;Ideas and knowledge only serve you when a strong strategy is implemented to support your growth and success.&nbsp\;</li>\n	<li><strong>Confidence-</strong>&nbsp\;Your success is determined by your belief in yourself and your abilities. Technique and skills are only at their full potential when they&#39\;re coupled with a deep inner self-confidence.&nbsp\;</li>\n	<li><strong>Courage</strong>- The final step of success is taking action even when fear is present.&nbsp\;</li>\n</ol>\n\n<p>It doesn&#39\;t get any better than this! A FREE program that is invaluable with resources\, time\, and money.&nbsp\;</p>\n
LOCATION:ONLINE VIA ZOOM AN FACEBOOK LIVE GROUP
UID:e.1283.21483
SEQUENCE:3
DTSTAMP:20260426T015009Z
URL:https://business.whittierchamber.com/events/details/free-success-club-now-open-07-27-2020-21483
END:VEVENT

END:VCALENDAR
