BEGIN:VCALENDAR
VERSION:2.0
PRODID:-//ChamberMaster//Event Calendar 2.0//EN
METHOD:PUBLISH
X-PUBLISHED-TTL:P3D
REFRESH-INTERVAL:P3D
CALSCALE:GREGORIAN
BEGIN:VEVENT
DTSTART:20220805T010000Z
DTEND:20220805T030000Z
X-MICROSOFT-CDO-ALLDAYEVENT:FALSE
SUMMARY:City of Whittier National Night Out
DESCRIPTION:City of Whittier Presents:\n\nNational Night Out\n\nAmerica's Night Out Against Crime!
X-ALT-DESC;FMTTYPE=text/html:<strong><span style="color:#000000\;"><span style="font-family:verdana\;"><span style="font-size:18px\;">City of Whittier Presents:<br />\nNational Night Out<br />\nAmerica&#39\;s Night Out Against Crime!</span></span></span></strong>
LOCATION:Parnell Park 15390 Lambert Rd. Whittier\, CA 90604
UID:e.1283.23879
SEQUENCE:3
DTSTAMP:20260421T123233Z
URL:https://business.whittierchamber.com/events/details/city-of-whittier-national-night-out-23879
END:VEVENT

END:VCALENDAR
