BEGIN:VCALENDAR
VERSION:2.0
PRODID:-//ChamberMaster//Event Calendar 2.0//EN
METHOD:PUBLISH
X-PUBLISHED-TTL:P3D
REFRESH-INTERVAL:P3D
CALSCALE:GREGORIAN
BEGIN:VEVENT
DTSTART:20240927T003000Z
DTEND:20240927T023000Z
X-MICROSOFT-CDO-ALLDAYEVENT:FALSE
SUMMARY:CBA (Multi-Chamber Mixer): Summer Luau Mixer
DESCRIPTION:It's Tiki Time!\n\n\n\nJoin us for the Summer CBA Luau Mixer hosted by the La Habra Chamber. There were will be food\, drinks\, music and fun raffle prizes! We look forward to seeing you there!\n\n\n\nChambers that will be in attendance:\n\nAnaheim Chamber of Commerce\n\nBrea Chamber of Commerce\n\nCerritos Chamber of Commerce\n\nLa Habra Chamber of Commerce\n\nLa Mirada Chamber of Commerce\n\nPlacentia Chamber of Commerce\n\nWhittier Area Chamber of Commerce\n\nYorba Linda Chamber of Commerce
X-ALT-DESC;FMTTYPE=text/html:<strong><span style="color:#008000\;"><span style="font-family:verdana\;"><span style="font-size:18px\;">It&#39\;s Tiki Time!<br />\n<br />\nJoin us for the Summer CBA Luau Mixer hosted by the La Habra Chamber. There were will be food\, drinks\, music and fun raffle prizes! We look forward to seeing you there!<br />\n<br />\nChambers that will be in attendance:<br />\nAnaheim Chamber of Commerce<br />\nBrea Chamber of Commerce<br />\nCerritos Chamber of Commerce<br />\nLa Habra Chamber of Commerce<br />\nLa Mirada Chamber of Commerce<br />\nPlacentia Chamber of Commerce<br />\nWhittier Area Chamber of Commerce<br />\nYorba Linda Chamber of Commerce</span></span></span></strong><br />\n&nbsp\;
LOCATION:La Habra Town Center 1305 W. Whittier Blvd. La Habra\, CA 90631
UID:e.1283.26472
SEQUENCE:3
DTSTAMP:20260421T002905Z
URL:https://business.whittierchamber.com/events/details/cba-multi-chamber-mixer-summer-luau-mixer-26472
END:VEVENT

END:VCALENDAR
