BEGIN:VCALENDAR
VERSION:2.0
PRODID:-//ChamberMaster//Event Calendar 2.0//EN
METHOD:PUBLISH
X-PUBLISHED-TTL:P3D
REFRESH-INTERVAL:P3D
CALSCALE:GREGORIAN
BEGIN:VEVENT
DTSTART:20190302T160000Z
DTEND:20190302T200000Z
X-MICROSOFT-CDO-ALLDAYEVENT:FALSE
SUMMARY:Career & Technical Education Division
DESCRIPTION:Career and Technical Education (CTE) programs prepare students by providing them with the entry or advanced level knowledge and skills critical for successful employment. Career programs offer an alternative route to acquiring career skills and to furthering an educational experience. Rio Hondo College's CTE programs are designed to provide educational\, vocational and technical training that will lead to specialized employment\, career advancement\, or transfer to a university.
X-ALT-DESC;FMTTYPE=text/html:<p><span style="background-color:rgb(255\, 255\, 255)\; color:rgb(34\, 34\, 34)\; font-family:helvetica neue\,helvetica\,helvetica\,arial\,sans-serif\; font-size:14px">Career and Technical Education (CTE) programs prepare students by providing them with the entry or advanced level knowledge and skills critical for successful employment. Career programs offer an alternative route to acquiring career skills and to furthering an educational experience. Rio Hondo College&rsquo\;s CTE programs are designed to provide educational\, vocational and technical training that will lead to specialized employment\, career advancement\, or transfer to a university. </span></p>\n
LOCATION:Rio Hondo College Tech Quad 3600 Workman Mill Road Whittier\, CA 90601
UID:e.1283.17456
SEQUENCE:3
DTSTAMP:20260423T032847Z
URL:https://business.whittierchamber.com/events/details/career-technical-education-division-17456
END:VEVENT

END:VCALENDAR
