BEGIN:VCALENDAR
VERSION:2.0
PRODID:-//ChamberMaster//Event Calendar 2.0//EN
METHOD:PUBLISH
X-PUBLISHED-TTL:P3D
REFRESH-INTERVAL:P3D
CALSCALE:GREGORIAN
BEGIN:VEVENT
DTSTART:20200116T000000Z
DTEND:20200116T030000Z
X-MICROSOFT-CDO-ALLDAYEVENT:FALSE
SUMMARY:Business Expo: "Soaring to New Heights" 2020
DESCRIPTION:Meet some of Whittier area's finest businesses at our annual business expo!\n\n \n\nTake professional head shots for only $10\, equip yourself at the Business Resource Center or Business Development Presentations\, enjoy food samples and a business showcase\, and many giveaways!\n\n\n\nWant to skip the line? Sign up and pre-pay for your headshot before the event by clicking the register now button!\n\n\n\nExhibitor Lineup Announced!\n\nSee images below.
X-ALT-DESC;FMTTYPE=text/html:<div style="color: rgb(115\, 157\, 211)\; font-family: Arial\, Verdana\, Helvetica\, sans-serif\; font-size: 16px\; font-weight: 700\; white-space: pre-wrap\;"><span style="color: rgb(0\, 0\, 0)\; font-weight: normal\;">Meet some of Whittier area&#39\;s finest businesses at our annual business expo!</span></div>\n\n<div style="color: rgb(115\, 157\, 211)\; font-family: Arial\, Verdana\, Helvetica\, sans-serif\; font-size: 16px\; font-weight: 700\; white-space: pre-wrap\;">&nbsp\;</div>\n\n<div style="color: rgb(115\, 157\, 211)\; font-family: Arial\, Verdana\, Helvetica\, sans-serif\; font-size: 16px\; font-weight: 700\; white-space: pre-wrap\;"><span style="font-weight: normal\; color: rgb(0\, 0\, 0)\;">Take professional </span><span style="font-weight: 400\; color: rgb(0\, 0\, 0)\;">head shots</span><span style="font-weight: normal\; color: rgb(0\, 0\, 0)\;"> for only $10\, equip yourself at the Business Resource Center or </span><span style="font-weight: 400\; color: rgb(0\, 0\, 0)\;">Business</span><span style="font-weight: normal\; color: rgb(0\, 0\, 0)\;"> Development Presentations\, enjoy food samples and a business showcase\, and many giveaways!<br />\n<br />\nWant to skip the line? Sign up and pre-pay for your headshot before the event by clicking the register now button!</span><br />\n<br />\nExhibitor Lineup Announced!<br />\nSee images below.</div>\n
LOCATION:DoubleTree by Hilton-Whittier 7320 Greenleaf Ave. Whittier\, CA 90602
UID:e.1283.20319
SEQUENCE:3
DTSTAMP:20260422T220006Z
URL:https://business.whittierchamber.com/events/details/business-expo-soaring-to-new-heights-2020-20319
END:VEVENT

END:VCALENDAR
