BEGIN:VCALENDAR
VERSION:2.0
PRODID:-//ChamberMaster//Event Calendar 2.0//EN
METHOD:PUBLISH
X-PUBLISHED-TTL:P3D
REFRESH-INTERVAL:P3D
CALSCALE:GREGORIAN
BEGIN:VEVENT
DTSTART;VALUE=DATE:20240909
DTEND;VALUE=DATE:20240910
TRANSP:TRANSPARENT
X-MICROSOFT-CDO-ALLDAYEVENT:TRUE
SUMMARY:46th Annual Hathaway Golf Classic
DESCRIPTION:Join the Whittier Chamber at the 46th Annual Hathaway Golf Classic! Enjoy a beautiful day on the course complete with sponsored food and beverages\, tournament packages\, silent auctions\, business networking opportunities and more. Not a golfer? Join us for our 19th Hole After Party Mixer! Tickets include 1 drink ticket and dinner!
X-ALT-DESC;FMTTYPE=text/html:<span style="color:#008000\;"><span style="font-size:18px\;"><span style="font-family:verdana\;"><strong><span style="line-height: 16.6399993896484px\;">Join the Whittier Chamber at the 46th Annual Hathaway Golf Classic! Enjoy a beautiful day on the course complete with sponsored food and beverages\, tournament packages\, silent auctions\, business networking opportunities and more.&nbsp\;Not a golfer?&nbsp\;Join us for our 19th Hole After Party Mixer! Tickets include 1 drink ticket and dinner!</span></strong></span></span></span><br />\n&nbsp\;
LOCATION:Friendly Hills Country Club 8500 S. Villaverde Dr. Whittier\, CA 90605
UID:e.1283.26425
SEQUENCE:3
DTSTAMP:20260423T034208Z
URL:https://business.whittierchamber.com/events/details/46th-annual-hathaway-golf-classic-26425
END:VEVENT

END:VCALENDAR
