BEGIN:VCALENDAR
VERSION:2.0
PRODID:-//ChamberMaster//Event Calendar 2.0//EN
METHOD:PUBLISH
X-PUBLISHED-TTL:P3D
REFRESH-INTERVAL:P3D
CALSCALE:GREGORIAN
BEGIN:VEVENT
DTSTART:20241023T150000Z
DTEND:20241023T170000Z
X-MICROSOFT-CDO-ALLDAYEVENT:FALSE
SUMMARY:2024 Business Economic Outlook
DESCRIPTION:Join us for this important program as we address the following questions that will help guide your business through the rest of the year:\n\n-Will the U.S. economy continue to grow in 2025\, or is a recession on the horizon?\n\n-Will the Fed continue to cut interest rates? And by how much? How will other borrowing costs be affected by rate cuts (e.g.\, mortgage rates & housing)?\n\n-How will the election affect the economy in 2025?\n\n-What are the other risks people are not yet aware of?\n\n-How will financial markets (stocks & bonds) fare in 2025?
X-ALT-DESC;FMTTYPE=text/html:<p class="_04xlpA direction-ltr align-start para-style-body" line-height:="" style="color: rgb(255\, 255\, 255)\; font-family: " yadz-dldkhc=""><span style="color:#000000\;"><em><strong><span style="font-size:20px\;"><span style="font-family:verdana\;"><span class="JsGRdQ">Join us for this important program as we address the following questions that will help guide your business through the rest of the year:</span></span></span></strong></em></span></p>\n\n<p class="_04xlpA direction-ltr align-start para-style-body" line-height:="" style="color: rgb(255\, 255\, 255)\; font-family: " yadz-dldkhc=""><span style="color:#000000\;"><em><span style="font-size:24px\;"><strong>-Will the U.S. economy continue to grow in 2025\, or is a recession on the horizon?<br />\n-Will the Fed continue to cut interest rates? And by how much? How will other borrowing costs be affected by rate cuts (e.g.\, mortgage rates &amp\; housing)?<br />\n-How will the election affect the economy in 2025?<br />\n-What are the other risks people are not yet aware&nbsp\;of?<br />\n-How will financial markets (stocks &amp\; bonds) fare in 2025?</strong></span></em></span></p>\n
LOCATION:Whittier College Villalobos Hall 13406 E. Philadelphia St. Whittier\, CA 90602
UID:e.1283.26490
SEQUENCE:3
DTSTAMP:20260421T082520Z
URL:https://business.whittierchamber.com/events/details/2024-business-economic-outlook-26490
END:VEVENT

END:VCALENDAR
